BEGIN:VCALENDAR
VERSION:2.0
PRODID:-//wp-events-plugin.com//7.2.3.1//EN
TZID:America/Chicago
X-WR-TIMEZONE:America/Chicago
BEGIN:VEVENT
UID:15209@villageofladd.com
DTSTART;TZID=America/Chicago:20260407T183000
DTEND;TZID=America/Chicago:20260407T183000
DTSTAMP:20260331T204842Z
URL:https://www.villageofladd.com/event/ala-meeting-2/
SUMMARY:ALA Meeting
DESCRIPTION:\n 	The Ladd American Legion Auxiliary Harold E. Russell Post #
 938 will meet.\n 	Members are asked to bring any volunteer service hours t
 o be included in the year-end reports.\n 	Anyone interested in joining the
  Auxiliary is welcome to attend.\n
LOCATION:Ladd American Legion\, 111 South Main Street\, Ladd\, IL\, 61329\,
  United States
GEO:41.381321;-89.218832
X-APPLE-STRUCTURED-LOCATION;VALUE=URI;X-ADDRESS=111 South Main Street\, Lad
 d\, IL\, 61329\, United States;X-APPLE-RADIUS=100;X-TITLE=Ladd American Le
 gion:geo:41.381321,-89.218832
END:VEVENT
BEGIN:VTIMEZONE
TZID:America/Chicago
X-LIC-LOCATION:America/Chicago
BEGIN:DAYLIGHT
DTSTART:20260308T030000
TZOFFSETFROM:-0600
TZOFFSETTO:-0500
TZNAME:CDT
END:DAYLIGHT
END:VTIMEZONE
END:VCALENDAR