BEGIN:VCALENDAR
VERSION:2.0
PRODID:-//wp-events-plugin.com//7.2.3.1//EN
TZID:America/Chicago
X-WR-TIMEZONE:America/Chicago
BEGIN:VEVENT
UID:15206@villageofladd.com
DTSTART;TZID=America/Chicago:20260330T180000
DTEND;TZID=America/Chicago:20260330T180000
DTSTAMP:20260329T161534Z
URL:https://www.villageofladd.com/event/cookie-decorating-class-4/
SUMMARY:Cookie Decorating Class
DESCRIPTION:Sign up today for a special Easter Bunny Cookie Decorating Clas
 s using edible glitter!  Liz Kegebein is returning to the Ladd Public Lib
 rary for a special Cookie Decorating Class using edible glitter on Monday\
 , March 30th at 6:00 pm.  All skill levels are welcome to join. Decorate 
 12 yummy vanilla sugar cookies with almond flavored royal icing. Learn or 
 enhance skills in border icing\, flooding and decorating. Gain secret tips
  and delicious recipes. Class size 8-28 people.  The cost of $35 per pers
 on includes a $5 donation to the Ladd Public Library.  We request pre-pay
 ment in cash or by check made payable to Liz Kegebein to reserve your plac
 e. Refunds provided only if your class is cancelled. (If you are unable to
  attend\, a cookie decorating kit will be available for pickup later.)
LOCATION:Ladd Public Library\, 125 N Main St\, Ladd\, IL\, 61329\, United S
 tates
GEO:41.382302;-89.218879
X-APPLE-STRUCTURED-LOCATION;VALUE=URI;X-ADDRESS=125 N Main St\, Ladd\, IL\,
  61329\, United States;X-APPLE-RADIUS=100;X-TITLE=Ladd Public Library:geo:
 41.382302,-89.218879
END:VEVENT
BEGIN:VTIMEZONE
TZID:America/Chicago
X-LIC-LOCATION:America/Chicago
BEGIN:DAYLIGHT
DTSTART:20260308T030000
TZOFFSETFROM:-0600
TZOFFSETTO:-0500
TZNAME:CDT
END:DAYLIGHT
END:VTIMEZONE
END:VCALENDAR