BEGIN:VCALENDAR
VERSION:2.0
PRODID:-//wp-events-plugin.com//7.2.3.1//EN
TZID:America/Chicago
X-WR-TIMEZONE:America/Chicago
BEGIN:VEVENT
UID:11850@villageofladd.com
DTSTART;TZID=America/Chicago:20251120T180000
DTEND;TZID=America/Chicago:20251120T200000
DTSTAMP:20251115T142957Z
URL:https://www.villageofladd.com/event/cookie-decorating-class/
SUMMARY:Cookie Decorating Class
DESCRIPTION:\n 	The Ladd Public Library is hosting a Cookie Decorating Clas
 s with Liz Kegebein.\n 	Decorate 12 yummy vanilla sugar cookies with almon
 d flavored royal icing.\n 	Learn or enhance skills in border icing\, flood
 ing\, and decorating.\n 	Gain secret tips and delicious recipes.\n 	Class 
 size 8-28 people.\n 	Cost is $35 per person which includes a $5 donation t
 o the Ladd Public Library.\n 	Pre-payment in cash or check made payable to
  Liz Kegebein to reserve your place.\n 	Refunds provided only if your clas
 s is cancelled.\n 	If you are unable to attend\, a Cookie Decorating Kit w
 ill be available for pickup later.\n 	All skill levels welcome.\n
LOCATION:Ladd Public Library\, 125 N Main St\, Ladd\, IL\, 61329\, United S
 tates
GEO:41.382302;-89.218879
X-APPLE-STRUCTURED-LOCATION;VALUE=URI;X-ADDRESS=125 N Main St\, Ladd\, IL\,
  61329\, United States;X-APPLE-RADIUS=100;X-TITLE=Ladd Public Library:geo:
 41.382302,-89.218879
END:VEVENT
BEGIN:VTIMEZONE
TZID:America/Chicago
X-LIC-LOCATION:America/Chicago
BEGIN:STANDARD
DTSTART:20251102T010000
TZOFFSETFROM:-0500
TZOFFSETTO:-0600
TZNAME:CST
END:STANDARD
END:VTIMEZONE
END:VCALENDAR