BEGIN:VCALENDAR
VERSION:2.0
PRODID:-//wp-events-plugin.com//7.2.3.1//EN
TZID:America/Chicago
X-WR-TIMEZONE:America/Chicago
BEGIN:VEVENT
UID:15220@villageofladd.com
DTSTART;TZID=America/Chicago:20260424T180000
DTEND;TZID=America/Chicago:20260424T210000
DTSTAMP:20260419T183229Z
URL:https://www.villageofladd.com/event/music-in-the-park-3/
SUMMARY:Music in the Park
DESCRIPTION:\n 	Live music by Wise Guys.\n 	Food available for purchase pro
 vided by Players Club.\n 	Free popcorn courtesy of Mayor &amp\; Mo Cattani
 .\n 	Bring your lawn chairs\, coolers\, and friends!\n
LOCATION:War Memorial Park\, 301 S Main St.\, Ladd\, IL\, 61329\, United St
 ates
GEO:41.37961;-89.219065
X-APPLE-STRUCTURED-LOCATION;VALUE=URI;X-ADDRESS=301 S Main St.\, Ladd\, IL\
 , 61329\, United States;X-APPLE-RADIUS=100;X-TITLE=War Memorial Park:geo:4
 1.37961,-89.219065
END:VEVENT
BEGIN:VTIMEZONE
TZID:America/Chicago
X-LIC-LOCATION:America/Chicago
BEGIN:DAYLIGHT
DTSTART:20260308T030000
TZOFFSETFROM:-0600
TZOFFSETTO:-0500
TZNAME:CDT
END:DAYLIGHT
END:VTIMEZONE
END:VCALENDAR