BEGIN:VCALENDAR
VERSION:2.0
PRODID:-//wp-events-plugin.com//7.2.3.1//EN
TZID:America/Chicago
X-WR-TIMEZONE:America/Chicago
BEGIN:VEVENT
UID:15213@villageofladd.com
DTSTART;TZID=America/Chicago:20260606T100000
DTEND;TZID=America/Chicago:20260606T110000
DTSTAMP:20260410T104431Z
URL:https://www.villageofladd.com/event/paws-to-read-with-hobo/
SUMMARY:Paws to Read with Hobo
DESCRIPTION:Paws to Read with Hobo is coming to the Ladd Public Library on 
 Saturday\, June 6th at 10:00 am. The Ladd Public Library invites families 
 with young readers to the first of what we hope to be many “Paws to Read
  with Hobo” programs on Saturday\, June 6th between 10am and 11am. This 
 literacy-focused initiative offers children an opportunity to practice the
 ir skills\, build confidence\, and develop a love of reading in a relaxed 
 and supportive setting. Bring a favorite book or choose one from the libra
 ry’s collection to read aloud to Hobo\, a certified therapy dog\, during
  a personal 10 minute long time slot.  There is no charge for this progra
 m but only six slots are available at 10am\, 10:10 am\, 10:20am\, 10:30am\
 , 10:40am and 10:50am. Stop by or call the Ladd Public Library at (815) 89
 4-3254 to reserve your slot today.
LOCATION:Ladd Public Library\, 125 N Main St\, Ladd\, IL\, 61329\, United S
 tates
GEO:41.382302;-89.218879
X-APPLE-STRUCTURED-LOCATION;VALUE=URI;X-ADDRESS=125 N Main St\, Ladd\, IL\,
  61329\, United States;X-APPLE-RADIUS=100;X-TITLE=Ladd Public Library:geo:
 41.382302,-89.218879
END:VEVENT
BEGIN:VTIMEZONE
TZID:America/Chicago
X-LIC-LOCATION:America/Chicago
BEGIN:DAYLIGHT
DTSTART:20260308T030000
TZOFFSETFROM:-0600
TZOFFSETTO:-0500
TZNAME:CDT
END:DAYLIGHT
END:VTIMEZONE
END:VCALENDAR