BEGIN:VCALENDAR
VERSION:2.0
PRODID:-//wp-events-plugin.com//7.2.3.1//EN
TZID:America/Chicago
X-WR-TIMEZONE:America/Chicago
BEGIN:VEVENT
UID:15207@villageofladd.com
DTSTART;TZID=America/Chicago:20260602T100000
DTEND;TZID=America/Chicago:20260602T110000
DTSTAMP:20260329T161952Z
URL:https://www.villageofladd.com/event/summer-story-hour/
SUMMARY:Summer Story Hour
DESCRIPTION:Summer is right around the corner\, and so is the Summer Story 
 Hour with Miss Linda at the Ladd Public Library.  Held on Tuesdays from J
 une 2 to August 4 from 10:00 - 11:00 am\, this program is for ages birth t
 o six and includes music &amp\; dance\, arts &amp\; crafts\, games\, snack
 s\, and a story read by Miss Linda.  Seating is limited and registration 
 is required.  Space limitation does not allow for walk-ins during the Sum
 mer Story Hour.  The regular Story Hour program\, which does not require 
 registration\, will return on Tuesday\, August 11 @ 10:00 am.
LOCATION:Ladd Public Library\, 125 N Main St\, Ladd\, IL\, 61329\, United S
 tates
GEO:41.382302;-89.218879
X-APPLE-STRUCTURED-LOCATION;VALUE=URI;X-ADDRESS=125 N Main St\, Ladd\, IL\,
  61329\, United States;X-APPLE-RADIUS=100;X-TITLE=Ladd Public Library:geo:
 41.382302,-89.218879
END:VEVENT
BEGIN:VTIMEZONE
TZID:America/Chicago
X-LIC-LOCATION:America/Chicago
BEGIN:DAYLIGHT
DTSTART:20260308T030000
TZOFFSETFROM:-0600
TZOFFSETTO:-0500
TZNAME:CDT
END:DAYLIGHT
END:VTIMEZONE
END:VCALENDAR