BEGIN:VCALENDAR
VERSION:2.0
PRODID:-//wp-events-plugin.com//7.2.3.1//EN
TZID:America/Chicago
X-WR-TIMEZONE:America/Chicago
BEGIN:VEVENT
UID:7788@villageofladd.com
DTSTART;TZID=America/Chicago:20250811T110000
DTEND;TZID=America/Chicago:20280712T110000
DTSTAMP:20260102T143331Z
URL:https://www.villageofladd.com/event/taps/
SUMMARY:Taps
DESCRIPTION:As a reminder of the sacrifices made by our servicemen and serv
 icewomen\, Taps will be played over our Main Street speakers at the 11th h
 our of the 11th day of each month.  Citizens are invited to gather at the
  Veterans Memorial Monuments in War Memorial Park for the tribute.
LOCATION:War Memorial Park\, 301 S Main St.\, Ladd\, IL\, 61329\, United St
 ates
GEO:41.37961;-89.219065
X-APPLE-STRUCTURED-LOCATION;VALUE=URI;X-ADDRESS=301 S Main St.\, Ladd\, IL\
 , 61329\, United States;X-APPLE-RADIUS=100;X-TITLE=War Memorial Park:geo:4
 1.37961,-89.219065
END:VEVENT
BEGIN:VTIMEZONE
TZID:America/Chicago
X-LIC-LOCATION:America/Chicago
BEGIN:DAYLIGHT
DTSTART:20250309T030000
TZOFFSETFROM:-0600
TZOFFSETTO:-0500
TZNAME:CDT
END:DAYLIGHT
BEGIN:STANDARD
DTSTART:20251102T010000
TZOFFSETFROM:-0500
TZOFFSETTO:-0600
TZNAME:CST
END:STANDARD
BEGIN:DAYLIGHT
DTSTART:20260308T030000
TZOFFSETFROM:-0600
TZOFFSETTO:-0500
TZNAME:CDT
END:DAYLIGHT
BEGIN:STANDARD
DTSTART:20261101T010000
TZOFFSETFROM:-0500
TZOFFSETTO:-0600
TZNAME:CST
END:STANDARD
BEGIN:DAYLIGHT
DTSTART:20270314T030000
TZOFFSETFROM:-0600
TZOFFSETTO:-0500
TZNAME:CDT
END:DAYLIGHT
BEGIN:STANDARD
DTSTART:20271107T010000
TZOFFSETFROM:-0500
TZOFFSETTO:-0600
TZNAME:CST
END:STANDARD
BEGIN:DAYLIGHT
DTSTART:20280312T030000
TZOFFSETFROM:-0600
TZOFFSETTO:-0500
TZNAME:CDT
END:DAYLIGHT
END:VTIMEZONE
END:VCALENDAR